BEGIN:VCALENDAR
VERSION:2.0
PRODID:-//https://anewearth.com.my///NONSGML kigkonsult.se iCalcreator 2.10.15//
METHOD:PUBLISH
BEGIN:VEVENT
UID:20260424T163115UTC-6671PbXwiu@https://anewearth.com.my/
DTSTAMP:20260424T163115Z
DESCRIPTION:Date: 17 May 2014 (Saturday) Time: 5.30 pm – 8 pm Venue: A New 
 Earth\n Balamurugan\, or as he goes by his stage name Bullet\, is a soul p
 ercussionist who literally does that\, blending soulful journeys to his dr
 umming. He is very intuitive with the energies surrounding him. One even m
 ight call him a planet like version of the smiley\, and he puts his heart 
 and soul baring to everyone when he drums.\nHe is very keen on exploring d
 rumming togetherness\, and always has space for anyone to join him on stag
 e to drum along. He performs to select soul related project (not the genre
 ) and is currently on his own\, venturing into teaching percussions and as
 sisting healers by infusing drumming to their work.\nComfortable with most
  genres\, including classical Indian and Western influences\, he's a force
  to be experienced with the heart.\nCome jam with Bullet with hearts wide 
 open! Bring your drums or any other musical instrument. There will also be
  other musical instruments to be shared.\nPlease call 0122024770 to let is
  know you’re coming!\n \n*photo credit to Albert Ng https://anewearth.com.
 my/index.php/event/300-drum-jam-with-bullet.html
DTSTART:20140517T093000Z
DTEND:20140517T120000Z
LOCATION:A New Earth Holistic & Metaphysical Center (No. 5\, Jalan PJU 7/15
 \, Mutiara Damansara\, 47810 Petaling Jaya\, Selangor\, Malaysia)
SUMMARY:Drum Jam with Bullet !
URL:https://anewearth.com.my/index.php/event/300-drum-jam-with-bullet.html
END:VEVENT
END:VCALENDAR
